Workbook

Sheet Legenda
A1: Legenda delle ripartizioni e degli aggregati territoriali
A3: - Nord (Piemonte, Valle d'Aosta/Vallée d'Aoste, Lombardia, Trentino-Alto Adige/Südtirol, Veneto, Friuli-Venezia Giulia, Liguria, Emilia-Romagna)
A4: - Nord-ovest (Piemonte, Valle d'Aosta/Vallée d'Aoste, Lombardia, Liguria)
A5: - Nord-est (Trentino-Alto Adige/Südtirol, Veneto, Friuli-Venezia Giulia, Emilia-Romagna)
A6: - Centro (Toscana, Umbria, Marche, Lazio)
A7: - Centro-Nord (Piemonte, Valle d'Aosta/Vallée d'Aoste, Lombardia, Trentino-Alto Adige/Südtirol, Veneto, Friuli-Venezia Giulia, Liguria, Emilia-Romagna, Toscana, Umbria, Marche, Lazio)
A8: - Mezzogiorno (Abruzzo, Molise, Campania, Puglia, Basilicata, Calabria, Sicilia, Sardegna)
A9: - Sud (Abruzzo, Molise, Campania, Puglia, Basilicata, Calabria)
A10: - Isole (Sicilia, Sardegna)
A11: - Regioni non Ob. 1 (Piemonte, Valle d'Aosta/Vallée d'Aoste, Lombardia, Trentino-Alto Adige/Südtirol, Veneto, Friuli-Venezia Giulia, Liguria, Emilia-Romagna, Toscana, Umbria, Marche, Lazio, Abruzzo)
A12: - Regioni Ob. 1 (Molise, Campania, Puglia, Basilicata, Calabria, Sicilia, Sardegna)
A13: - Regioni Ob. 1 (escl. Molise) (Campania, Puglia, Basilicata, Calabria, Sicilia, Sardegna)
... A27: - Colore linguetta foglio di lavoro
B29: Indicatore che fa parte delle tavole di osservazione del QSN
B30: Indicatore il cui grafico è presente sul portale Opencoesione: http://www.opencoesione.gov.it/dati-istat-di-contesto/
B31: L'indicatore fa parte del set di indicatori dell'Accordo di Partenariato 2014-2020
A33: - Colore titolo indicatore (FONTE)
B35: Istat
B36: Altri enti Sistan
B37: Banca d'Italia e UIC
B38: Enti non Sistan
A41: Caratteri(Convenzionali):
B43: Linea ( - ) quando il fenomeno non esiste oppure quando il fenomeno esiste e viene rilevato, ma i casi non si sono verificati.
B44: Quattro puntini ( .... ) quando il fenomeno esiste, ma i dati non si conoscono per qualsiasi ragione.

Sheet  Ind. Regionale
A1: Popolazione esposta a rischio alluvioni
A2: Territorio: REGIONI
B3: Nome indicatore: Popolazione esposta a rischio alluvioni
B4: Nome tabella: Popolazione a rischio residente in aree a pericolosità media (n. abitanti) su base regionale
A7: REGIONI | B7: Anni
B8: 2015 (a) | C8: 2018 (b) | D8: 2020 (c)
A9: Piemonte | B9: 220406.62 | C9: 210047 | D9: 213655
A10: Valle d'Aosta/Vallée d'Aoste | B10: 12701.94 | C10: 12885 | D10: 11508
A11: Lombardia | B11: 280433.85 | C11: 429576 | D11: 430196
A12: Trentino-Alto Adige/Südtirol | B12: 14539.386 | C12: 14121 | D12: 185610
A13: - Bolzano/Bozen | B13: 10211.807 | C13: 10071 | D13: 49489
A14: - Trento | B14: 4327.5796 | C14: 4050 | D14: 136121
A15: Veneto | B15: 453266.59 | C15: 460668 | D15: 568131
A16: Friuli-Venezia Giulia | B16: 85560.913 | C16: 89254 | D16: 121318
A17: Liguria | B17: 253377.78 | C17: 274827 | D17: 273583
A18: Emilia-Romagna | B18: 2759961.9 | C18: 2764534 | D18: 2714773
A19: Toscana | B19: 951422.03 | C19: 954721 | D19: 938199
A20: Umbria | B20: 56051.382 | C20: 55311 | D20: 63947
... A30: Sardegna | B30: 96497.938 | C30: 115640 | D30: 122963
A31: Italia | B31: =SUM(B9:B11)+SUM(B13:B30) -> 5922922.5 | C31: =SUM(C9:C11)+SUM(C13:C30) -> 6183364 | D31: =SUM(D9:D11)+SUM(D13:D30) -> 6818375
A32: Dati non ripartibili o non classificabili
A33: - Nord | B33: =B34+B35 -> 4080248.9 | C33: =C34+C35 -> 4255912 | D33: =D34+D35 -> 4518774
A34: - Nord-ovest | B34: =B9+B10+B11+B17 -> 766920.19 | C34: =C9+C10+C11+C17 -> 927335 | D34: =D9+D10+D11+D17 -> 928942
A35: - Nord-est | B35: =B13+B14+B15+B16+B18 -> 3313328.7 | C35: =C13+C14+C15+C16+C18 -> 3328577 | D35: =D13+D14+D15+D16+D18 -> 3589832
A36: - Centro | B36: =B19+B20+B21+B22 -> 1183643.3 | C36: =C19+C20+C21+C22 -> 1267139 | D36: =D19+D20+D21+D22 -> 1257714
A37: - Centro-Nord | B37: =B33+B36 -> 5263892.2 | C37: =C33+C36 -> 5523051 | D37: =D33+D36 -> 5776488
A38: - Mezzogiorno | B38: =B39+B40 -> 659030.28 | C38: =C39+C40 -> 660313 | D38: =D39+D40 -> 1041887
A39: - Sud | B39: =B23+B24+B25+B26+B27+B28 -> 534638.26 | C39: =C23+C24+C25+C26+C27+C28 -> 538462 | D39: =D23+D24+D25+D26+D27+D28 -> 787379
A40: - Isole | B40: =B29+B30 -> 124392.03 | C40: =C29+C30 -> 121851 | D40: =D29+D30 -> 254508
A41: Ciclo di programmazione F.S. 2000-06
A42: - Regioni non Ob. 1 | B42: =SUM(B9:B11)+SUM(B13:B23) -> 5352566.4 | C42: =SUM(C9:C11)+SUM(C13:C23) -> 5603224 | D42: =SUM(D9:D11)+SUM(D13:D23) -> 5871051
A43: - Regioni Ob. 1 | B43: =SUM(B24:B30) -> 570356.12 | C43: =SUM(C24:C30) -> 580140 | D43: =SUM(D24:D30) -> 947324
A44: - Regioni Ob. 1 (escl. Molise) | B44: =SUM(B25:B30) -> 566025.82 | C44: =SUM(C25:C30) -> 575814 | D44: =SUM(D25:D30) -> 940172
A45: Ciclo di programmazione F.S. 2007-13
A46: - Ob. CONV | B46: =SUM(B25:B29) -> 469527.88 | C46: =SUM(C25:C29) -> 460174 | D46: =SUM(D25:D29) -> 817209
A47: - Ob. CONV (escl. Basilicata) | B47: =SUM(B25:B26)+SUM(B28:B29) -> 465887.67 | C47: =SUM(C25:C26)+SUM(C28:C29) -> 456403 | D47: =SUM(D25:D26)+SUM(D28:D29) -> 811037
A48: - Ob. CRO | B48: =SUM(B9:B11)+SUM(B13:B24)+B30 -> 5453394.6 | C48: =SUM(C9:C11)+SUM(C13:C24)+C30 -> 5723190 | D48: =SUM(D9:D11)+SUM(D13:D24)+D30 -> 6001166
A49: - Ob. CRO (escl. Sardegna) | B49: =SUM(B9:B11)+SUM(B13:B24) -> 5356896.7 | C49: =SUM(C9:C11)+SUM(C13:C24) -> 5607550 | D49: =SUM(D9:D11)+SUM(D13:D24) -> 5878203
A50: Ciclo di programmazione F. S. 2014-20
A51: - Regioni più sviluppate | B51: =SUM(B9:B11)+SUM(B13:B22) -> 5263892.2 | C51: =SUM(C9:C11)+SUM(C13:C22) -> 5523051 | D51: =SUM(D9:D11)+SUM(D13:D22) -> 5776488
...

Sheet Dati di base x Ind. Regional
A1: Popolazione esposta a rischio alluvioni
A2: Territorio: REGIONI
B3: Mosaicatura nazionale delle aree a pericolosità idraulica
B4: Nome tabella: Aree a pericolosità idraulica media con tempo di ritorno tra 100 e 200 anni (km2) su base regionale
A7: Territorio: REGIONI | B7: Anni
B8: 2015 (a) | C8: 2017 (b) | D8: 2020 (c)
A9: Piemonte | B9: 1985.3239 | C9: 2065.9973 | D9: 2108.2
A10: Valle d'Aosta/Vallée d'Aoste | B10: 231.72185 | C10: 239.15433 | D10: 238.5
A11: Lombardia | B11: 2021.5225 | C11: 2405.7008 | D11: 2428.1
A12: Trentino-Alto Adige/Südtirol | B12: 80.791917 | C12: 78.941289 | D12: 351.2
A13: - Bolzano/Bozen | B13: 33.644982 | C13: 33.240391 | D13: ='Dati di base x ind prov'!D30 -> 70.9
A14: - Trento | B14: 47.146934 | C14: 45.700898 | D14: ='Dati di base x ind prov'!D31 -> 280.3
A15: Veneto | B15: 1758.3173 | C15: 1713.4228 | D15: 2435.5
A16: Friuli-Venezia Giulia | B16: 590.60362 | C16: 610.33988 | D16: 1156.1
A17: Liguria | B17: 143.665 | C17: 153.54766 | D17: 155.9
A18: Emilia-Romagna | B18: 10251.214 | C18: 10252.493 | D18: 10235.4
A19: Toscana | B19: 2550.2311 | C19: 2790.8257 | D19: 2794.5
A20: Umbria | B20: 337.82282 | C20: 336.69477 | D20: 368.6
A21: Marche | B21: 208.1535 | C21: 241.04691 | D21: 253.1
A22: Lazio | B22: 522.42193 | C22: 572.31537 | D22: 594.6
A23: Abruzzo | B23: 156.64258 | C23: 149.90624 | D23: 239.7
A24: Molise | B24: 139.17322 | C24: 139.36379 | D24: 250.4
A25: Campania | B25: 693.84522 | C25: 699.59966 | D25: 777.8
A26: Puglia | B26: 819.32604 | C26: 884.525 | D26: 1357.1
... A30: Sardegna | B30: 696.79833 | C30: 857.32324 | D30: 974
A31: Italia | B31: =SUM(B9:B11)+SUM(B13:B30) -> 24410.766 | C31: =SUM(C9:C11)+SUM(C13:C30) -> 25397.6 | D31: =SUM(D9:D11)+SUM(D13:D30) -> 30195.5
A32: Dati non ripartibili o non classificabili
A33: - Nord | B33: =B34+B35 -> 17063.16 | C33: =C34+C35 -> 17519.597 | D33: =D34+D35 -> 19108.9
A34: - Nord-ovest | B34: =B9+B10+B11+B17 -> 4382.2333 | C34: =C9+C10+C11+C17 -> 4864.4001 | D34: =D9+D10+D11+D17 -> 4930.7
A35: - Nord-est | B35: =B13+B14+B15+B16+B18 -> 12680.927 | C35: =C13+C14+C15+C16+C18 -> 12655.197 | D35: =D13+D14+D15+D16+D18 -> 14178.2
A36: - Centro | B36: =B19+B20+B21+B22 -> 3618.6293 | C36: =C19+C20+C21+C22 -> 3940.8828 | D36: =D19+D20+D21+D22 -> 4010.8
A37: - Centro-Nord | B37: =B33+B36 -> 20681.789 | C37: =C33+C36 -> 21460.48 | D37: =D33+D36 -> 23119.7
A38: - Mezzogiorno | B38: =B39+B40 -> 3728.9767 | C38: =C39+C40 -> 3937.1199 | D38: =D39+D40 -> 7075.8
A39: - Sud | B39: =B23+B24+B25+B26+B27+B28 -> 2646.5584 | C39: =C23+C24+C25+C26+C27+C28 -> 2726.7939 | D39: =D23+D24+D25+D26+D27+D28 -> 5596.8
A40: - Isole | B40: =B29+B30 -> 1082.4183 | C40: =C29+C30 -> 1210.326 | D40: =D29+D30 -> 1479
A41: Ciclo di programmazione F.S. 2000-06
A42: - Regioni non Ob. 1 | B42: =SUM(B9:B11)+SUM(B13:B23) -> 20838.432 | C42: =SUM(C9:C11)+SUM(C13:C23) -> 21610.386 | D42: =SUM(D9:D11)+SUM(D13:D23) -> 23359.4
A43: - Regioni Ob. 1 | B43: =SUM(B24:B30) -> 3572.3341 | C43: =SUM(C24:C30) -> 3787.2136 | D43: =SUM(D24:D30) -> 6836.1
A44: - Regioni Ob. 1 (escl. Molise) | B44: =SUM(B25:B30) -> 3433.1609 | C44: =SUM(C25:C30) -> 3647.8498 | D44: =SUM(D25:D30) -> 6585.7
A45: Ciclo di programmazione F.S. 2007-13
...

Sheet Ind. provinciale
A1: Popolazione esposta a rischio alluvioni
A2: Territorio: PROVINCE
B3: Nome indicatore: Popolazione esposta a rischio alluvioni
B4: Nome tabella: Popolazione a rischio residente in aree a pericolosità media (n. abitanti) su base provinciale
A7: PROVINCE | B7: Anni
B8: 2015 (a) | C8: 2018 (b) | D8: 2020 (c)
A9: Torino | B9: 124032.99 | C9: 109480 | D9: 116634
A10: Vercelli | B10: 7877.3573 | C10: 7735 | D10: 7704
A11: Novara | B11: 6975.718 | C11: 7933 | D11: 8003
A12: Cuneo | B12: 29632.002 | C12: 31583 | D12: 31871
A13: Asti | B13: 4996.9133 | C13: 5024 | D13: 5014
A14: Alessandria | B14: 12829.201 | C14: 13607 | D14: 13661
A15: Biella | B15: 6199.9399 | C15: 6158 | D15: 6217
A16: Verbano-Cusio-Ossola | B16: 27862.499 | C16: 28527 | D16: 24551
A17: Aosta | B17: 12701.94 | C17: 12885 | D17: 11508
A18: Varese | B18: 17568.505 | C18: 19949 | D18: 19145
A19: Como | B19: 11217.319 | C19: 9658 | D19: 9839
A20: Sondrio | B20: 8896.1415 | C20: 9491 | D20: 9028
... A115: Sud Sardegna | B115: 26688.294 | C115: 28284 | D115: 29836
A116: totale | B116: =SUM(B9:B115) -> 5922922.5 | C116: =SUM(C9:C115) -> 6183364 | D116: =SUM(D9:D115) -> 6818375
A117: Fonte: ISPRA
A118: Metadati | B118: https://annuario.isprambiente.it/pon/basic/18
A119: Note : | B119: (a) La stima della popolazione a rischio alluvioni è stata effettuata intersecando, in ambiente GIS, la Mosaicatura nazionale ISPRA (v. 3.0 - Maggio 2015) delle aree a pericolosità idraulica con le 402.678 sezioni del 15° Censimento ISTAT 2011. Per la restituzione dell'indicatore di rischio sui diversi livelli territoriali sono stati utilizzati i limiti comunali, provinciali e regionali ISTAT 2017
B120: (b) La stima della popolazione a rischio alluvioni è stata effettuata intersecando, in ambiente GIS, la Mosaicatura nazionale ISPRA (v. 4.0 - Dicembre 2017) delle aree a pericolosità idraulica con le 402.678 sezioni del 15° Censimento ISTAT 2011. Per la restituzione dell'indicatore di rischio sui diversi livelli territoriali sono stati utilizzati i limiti comunali, provinciali e regionali ISTAT 2017
B121: (c) La stima della popolazione a rischio alluvioni è stata effettuata intersecando, in ambiente GIS, la Mosaicatura nazionale ISPRA (v. 5.0 - Dicembre 2020) delle aree a pericolosità idraulica con le 402.678 sezioni del 15° Censimento ISTAT 2011. Per la restituzione dell'indicatore di rischio sui diversi livelli territoriali sono stati utilizzati i limiti comunali, provinciali e regionali ISTAT 2020

Sheet Dati di base x ind prov
A1: Popolazione esposta a rischio alluvioni
A2: Territorio: PROVINCE
B3: Mosaicatura nazionale delle aree a pericolosità idraulica
B4: Nome tabella: Aree a pericolosità idraulica media con tempo di ritorno tra 100 e 200 anni (km2) su base provinciale
A7: Territorio: PROVINCE | B7: Anni
B8: 2015 (a) | C8: 2017 (b) | D8: 2020 (c)
A9: Torino | B9: 581.65023 | C9: 579.69416 | D9: 611.2
A10: Vercelli | B10: 158.42365 | C10: 169.10016 | D10: 169.3
A11: Novara | B11: 137.75178 | C11: 141.47935 | D11: 142.3
A12: Cuneo | B12: 419.48453 | C12: 447.5118 | D12: 451.4
A13: Asti | B13: 111.5872 | C13: 115.42795 | D13: 116.7
A14: Alessandria | B14: 388.44506 | C14: 424.54487 | D14: 423.9
A15: Biella | B15: 33.708861 | C15: 34.281565 | D15: 38
A16: Verbano-Cusio-Ossola | B16: 154.27264 | C16: 153.95742 | D16: 155.4
A17: Aosta | B17: 231.72185 | C17: 239.15433 | D17: 238.5
A18: Varese | B18: 146.76936 | C18: 156.88037 | D18: 156.6
A19: Como | B19: 125.13639 | C19: 128.57527 | D19: 128.8
A20: Sondrio | B20: 135.83994 | C20: 151.9133 | D20: 151
... A115: Sud Sardegna | B115: 182.12384 | C115: 244.79259 | D115: 283.5
A116: totale | B116: =SUM(B9:B115) -> 24410.766 | C116: =SUM(C9:C115) -> 25397.6 | D116: =SUM(D9:D115) -> 30195.9
A117: Fonte: ISPRA
A118: Note : | B118: (a) Mosaicatura nazionale ISPRA (v. 3.0 - Maggio 2015) delle aree a pericolosità idraulica. Per la restituzione dell'indicatore di rischio sui diversi livelli territoriali sono stati utilizzati i limiti comunali, provinciali e regionali ISTAT 2017
B119: (b) Mosaicatura nazionale ISPRA (v. 4.0 - Dicembre 2017) delle aree a pericolosità idraulica. Per la restituzione dell'indicatore di rischio sui diversi livelli territoriali sono stati utilizzati i limiti comunali, provinciali e regionali ISTAT 2017
B120: (c) Mosaicatura nazionale ISPRA (v. 5.0 - Dicembre 2020) delle aree a pericolosità idraulica. Per la restituzione dell'indicatore di rischio sui diversi livelli territoriali sono stati utilizzati i limiti comunali, provinciali e regionali ISTAT 2020

Sheet Ind. comuni capoluogo
A1: Popolazione esposta a rischio alluvioni
A2: Territorio: COMUNI CAPOLUOGO
B3: Nome indicatore: Popolazione esposta a rischio alluvioni
B4: Nome tabella: Popolazione a rischio residente in aree a pericolosità media (n. abitanti) nei comuni capoluoghi
A7: COMUNI CAPOLUOGO | B7: Anni
B8: 2015 (a) | C8: 2018 (b) | D8: 2020 (c)
A9: Torino | B9: 18314.763 | C9: 18281 | D9: 18287
A10: Vercelli | B10: 192.04344 | C10: 188 | D10: 188
A11: Novara | B11: 746.29863 | C11: 733 | D11: 733
A12: Cuneo | B12: 535.66532 | C12: 538 | D12: 538
A13: Asti | B13: 1237.0316 | C13: 1109 | D13: 1109
A14: Alessandria | B14: 672.7225 | C14: 667 | D14: 667
A15: Biella | B15: 242.64712 | C15: 240 | D15: 240
A16: Verbania | B16: 2213.7334 | C16: 2260 | D16: 2268
A17: Aosta | B17: 480.96992 | C17: 512 | D17: 499
A18: Varese | B18: 342.74489 | C18: 347 | D18: 348
A19: Como | B19: 2746.5972 | C19: 2901 | D19: 2996
A20: Sondrio | B20: 1690.64 | C20: 1679 | D20: 1679
... A117: Carbonia | B117: 1458.291 | C117: 1459 | D117: 1472
A118: totale | B118: =SUM(B9:B117) -> 1929579.7 | C118: =SUM(C9:C117) -> 2079370 | D118: =SUM(D9:D117) -> 2203406
A119: Fonte: ISPRA
A120: Metadati | B120: https://annuario.isprambiente.it/pon/basic/18
A122: Note : | B122: (a) La stima della popolazione a rischio alluvioni è stata effettuata intersecando, in ambiente GIS, la Mosaicatura nazionale ISPRA (v. 3.0 - Maggio 2015) delle aree a pericolosità idraulica con le 402.678 sezioni del 15° Censimento ISTAT 2011. Per la restituzione dell'indicatore di rischio sui diversi livelli territoriali sono stati utilizzati i limiti comunali, provinciali e regionali ISTAT 2017
B123: (b) La stima della popolazione a rischio alluvioni è stata effettuata intersecando, in ambiente GIS, la Mosaicatura nazionale ISPRA (v. 4.0 - Dicembre 2017) delle aree a pericolosità idraulica con le 402.678 sezioni del 15° Censimento ISTAT 2011. Per la restituzione dell'indicatore di rischio sui diversi livelli territoriali sono stati utilizzati i limiti comunali, provinciali e regionali ISTAT 2017
B124: (c) La stima della popolazione a rischio alluvioni è stata effettuata intersecando, in ambiente GIS, la Mosaicatura nazionale ISPRA (v. 5.0 - Dicembre 2020) delle aree a pericolosità idraulica con le 402.678 sezioni del 15° Censimento ISTAT 2011. Per la restituzione dell'indicatore di rischio sui diversi livelli territoriali sono stati utilizzati i limiti comunali, provinciali e regionali ISTAT 2020

Sheet Dati di base x ind com cap
A1: Popolazione esposta a rischio alluvioni
A2: Territorio: COMUNI CAPOLUOGO
B3: Mosaicatura nazionale delle aree a pericolosità idraulica
B4: Nome tabella: Aree a pericolosità idraulica media con tempo di ritorno tra 100 e 200 anni (km2)
A7: Territorio: COMUNI CAPOLUOGO | B7: Anni
B8: 2015 (a) | C8: 2018 (b) | D8: 2020 (c)
A9: Torino | B9: 10.143215 | C9: 10.148031 | D9: =VLOOKUP(A9,'Dati di base x ind com '!$A$9:$D$7912,4,FALSE) -> 10.1625
A10: Vercelli | B10: 13.038113 | C10: 13.040934 | D10: =VLOOKUP(A10,'Dati di base x ind com '!$A$9:$D$7912,4,FALSE) -> 13.0508
A11: Novara | B11: 12.797025 | C11: 12.797154 | D11: =VLOOKUP(A11,'Dati di base x ind com '!$A$9:$D$7912,4,FALSE) -> 12.8071
A12: Cuneo | B12: 13.229255 | C12: 13.251714 | D12: =VLOOKUP(A12,'Dati di base x ind com '!$A$9:$D$7912,4,FALSE) -> 13.258
A13: Asti | B13: 19.967046 | C13: 19.245662 | D13: =VLOOKUP(A13,'Dati di base x ind com '!$A$9:$D$7912,4,FALSE) -> 19.2592
A14: Alessandria | B14: 36.242798 | C14: 36.25019 | D14: =VLOOKUP(A14,'Dati di base x ind com '!$A$9:$D$7912,4,FALSE) -> 36.2793
A15: Biella | B15: 1.86204 | C15: 1.879773 | D15: =VLOOKUP(A15,'Dati di base x ind com '!$A$9:$D$7912,4,FALSE) -> 1.881
A16: Verbania | B16: 21.224469 | C16: 21.18849 | D16: =VLOOKUP(A16,'Dati di base x ind com '!$A$9:$D$7912,4,FALSE) -> 21.2576
A17: Aosta | B17: 1.146295 | C17: 1.219719 | D17: =VLOOKUP(A17,'Dati di base x ind com '!$A$9:$D$7912,4,FALSE) -> 1.1946
A18: Varese | B18: 6.039643 | C18: 6.048574 | D18: =VLOOKUP(A18,'Dati di base x ind com '!$A$9:$D$7912,4,FALSE) -> 6.0493
A19: Como | B19: 2.678007 | C19: 2.825782 | D19: =VLOOKUP(A19,'Dati di base x ind com '!$A$9:$D$7912,4,FALSE) -> 2.8717
A20: Sondrio | B20: 2.890605 | C20: 2.86051 | D20: =VLOOKUP(A20,'Dati di base x ind com '!$A$9:$D$7912,4,FALSE) -> 2.8625
... A117: Carbonia | B117: 0.708676 | C117: 0.713788 | D117: =VLOOKUP(A117,'Dati di base x ind com '!$A$9:$D$7912,4,FALSE) -> 0.7171
A118: totale | B118: =SUM(B9:B117) -> 3315.2615 | C118: =SUM(C9:C117) -> 3392.1898 | D118: =SUM(D9:D117) -> 3662.9957
A119: Fonte: ISPRA
A120: Note : | B120: (a) Mosaicatura nazionale ISPRA (v. 3.0 - Maggio 2015) delle aree a pericolosità idraulica. Per la restituzione dell'indicatore di rischio sui diversi livelli territoriali sono stati utilizzati i limiti comunali, provinciali e regionali ISTAT 2017
B121: (b) Mosaicatura nazionale ISPRA (v. 4.0 - Dicembre 2017) delle aree a pericolosità idraulica. Per la restituzione dell'indicatore di rischio sui diversi livelli territoriali sono stati utilizzati i limiti comunali, provinciali e regionali ISTAT 2017
B122: (c) Mosaicatura nazionale ISPRA (v. 5.0 - Dicembre 2020) delle aree a pericolosità idraulica. Per la restituzione dell'indicatore di rischio sui diversi livelli territoriali sono stati utilizzati i limiti comunali, provinciali e regionali ISTAT 2020

Sheet Ind. Comunale
A1: Popolazione esposta a rischio alluvioni
A2: Territorio: COMUNI
B3: Nome indicatore: Popolazione esposta a rischio alluvioni
B4: Nome tabella: Popolazione a rischio residente in aree a pericolosità media (n. abitanti) su base comunale
A7: COMUNI | B7: Anni
B8: 2015 (a) | C8: 2018 (b) | D8: 2020 (c)
A9: Agliè | B9: 3 | C9: 3 | D9: 3
A10: Airasca | B10: 3054 | C10: 0 | D10: 22
A11: Ala di Stura | B11: 138 | C11: 116 | D11: 116
A12: Albiano d'Ivrea | B12: 7 | C12: 7 | D12: 7
A13: Almese | B13: 1403 | C13: 649 | D13: 649
A14: Alpette | B14: 0 | C14: 0 | D14: 0
A15: Alpignano | B15: 170 | C15: 290 | D15: 290
A16: Andezeno | B16: 458 | C16: 459 | D16: 459
A17: Andrate | B17: 0 | C17: 0 | D17: 0
A18: Angrogna | B18: 7 | C18: 9 | D18: 9
A19: Arignano | B19: 49 | C19: 50 | D19: 50
A20: Avigliana | B20: 1696 | C20: 1693 | D20: 1694
... A7911: Villaspeciosa | B7911: 473 | C7911: 480 | D7911: 489
A7912: totale | B7912: =SUM(B9:B7911) -> 5922711 | C7912: =SUM(C9:C7911) -> 6183364 | D7912: =SUM(D9:D7911) -> 6818375
A7914: Fonte: ISPRA
A7915: Metadati | B7915: https://annuario.isprambiente.it/pon/basic/18
A7917: Note : | B7917: (a) La stima della popolazione a rischio alluvioni è stata effettuata intersecando, in ambiente GIS, la Mosaicatura nazionale ISPRA (v. 3.0 - Maggio 2015) delle aree a pericolosità idraulica con le 402.678 sezioni del 15° Censimento ISTAT 2011. Per la restituzione dell'indicatore di rischio sui diversi livelli territoriali sono stati utilizzati i limiti comunali, provinciali e regionali ISTAT 2020
B7918: (b) La stima della popolazione a rischio alluvioni è stata effettuata intersecando, in ambiente GIS, la Mosaicatura nazionale ISPRA (v. 4.0 - Dicembre 2017) delle aree a pericolosità idraulica con le 402.678 sezioni del 15° Censimento ISTAT 2011. Per la restituzione dell'indicatore di rischio sui diversi livelli territoriali sono stati utilizzati i limiti comunali, provinciali e regionali ISTAT 2020
B7919: (c) La stima della popolazione a rischio alluvioni è stata effettuata intersecando, in ambiente GIS, la Mosaicatura nazionale ISPRA (v. 5.0 - Dicembre 2020) delle aree a pericolosità idraulica con le 402.678 sezioni del 15° Censimento ISTAT 2011. Per la restituzione dell'indicatore di rischio sui diversi livelli territoriali sono stati utilizzati i limiti comunali, provinciali e regionali ISTAT 2020

Sheet Dati di base x ind com 
A1: Popolazione esposta a rischio alluvioni
A2: Territorio: COMUNI
B3: Mosaicatura nazionale delle aree a pericolosità idraulica
B4: Nome tabella: Aree a pericolosità idraulica media con tempo di ritorno tra 100 e 200 anni (km2) su base comunale
A7: Territorio: COMUNI | B7: Anni
B8: 2015 (a) | C8: 2017 (b) | D8: 2020 (c)
A9: Agliè | B9: 0.2204 | C9: 0.2221 | D9: 0.2222
A10: Airasca | B10: 4.2502 | C10: 0.0113 | D10: 2.9918
A11: Ala di Stura | B11: 1.5188 | C11: 1.4889 | D11: 1.4894
A12: Albiano d'Ivrea | B12: 1.0909 | C12: 1.087 | D12: 1.0877
A13: Almese | B13: 1.7759 | C13: 1.2656 | D13: 1.2661
A14: Alpette | B14: 0.0415 | C14: 0.0423 | D14: 0.0686
A15: Alpignano | B15: 1.363 | C15: 1.4686 | D15: 1.4693
A16: Andezeno | B16: 2.6371 | C16: 2.644 | D16: 2.6456
A17: Andrate | B17: 0 | C17: 0 | D17: 0
A18: Angrogna | B18: 0.2359 | C18: 0.2061 | D18: 0.2062
A19: Arignano | B19: 1.5127 | C19: 1.5145 | D19: 1.5155
A20: Avigliana | B20: 3.045 | C20: 3.0386 | D20: 3.0402
... A7911: Villaspeciosa | B7911: 4.992 | C7911: 5.8115 | D7911: 5.8211
A7912: totale | B7912: =SUM(B9:B7911) -> 24410.747 | C7912: =SUM(C9:C7911) -> 25397.582 | D7912: =SUM(D9:D7911) -> 30195.646
A7914: Fonte: ISPRA
A7916: Note : | B7916: (a) Mosaicatura nazionale ISPRA (v. 3.0 - Maggio 2015) delle aree a pericolosità idraulica. Per la restituzione dell'indicatore di rischio sui diversi livelli territoriali sono stati utilizzati i limiti comunali, provinciali e regionali ISTAT 2020
B7917: (b) Mosaicatura nazionale ISPRA (v. 4.0 - Dicembre 2017) delle aree a pericolosità idraulica. Per la restituzione dell'indicatore di rischio sui diversi livelli territoriali sono stati utilizzati i limiti comunali, provinciali e regionali ISTAT 2020
B7918: (c) Mosaicatura nazionale ISPRA (v. 5.0 - Dicembre 2020) delle aree a pericolosità idraulica. Per la restituzione dell'indicatore di rischio sui diversi livelli territoriali sono stati utilizzati i limiti comunali, provinciali e regionali ISTAT 2020
